BEGIN:VCALENDAR
VERSION:2.0
PRODID:-//Con Amore et Anima - ECPv6.15.20//NONSGML v1.0//EN
CALSCALE:GREGORIAN
METHOD:PUBLISH
X-ORIGINAL-URL:https://conamore-eersel.nl
X-WR-CALDESC:Evenementen voor Con Amore et Anima
REFRESH-INTERVAL;VALUE=DURATION:PT1H
X-Robots-Tag:noindex
X-PUBLISHED-TTL:PT1H
BEGIN:VTIMEZONE
TZID:Europe/Amsterdam
BEGIN:DAYLIGHT
TZOFFSETFROM:+0100
TZOFFSETTO:+0200
TZNAME:CEST
DTSTART:20240331T010000
END:DAYLIGHT
BEGIN:STANDARD
TZOFFSETFROM:+0200
TZOFFSETTO:+0100
TZNAME:CET
DTSTART:20241027T010000
END:STANDARD
BEGIN:DAYLIGHT
TZOFFSETFROM:+0100
TZOFFSETTO:+0200
TZNAME:CEST
DTSTART:20250330T010000
END:DAYLIGHT
BEGIN:STANDARD
TZOFFSETFROM:+0200
TZOFFSETTO:+0100
TZNAME:CET
DTSTART:20251026T010000
END:STANDARD
BEGIN:DAYLIGHT
TZOFFSETFROM:+0100
TZOFFSETTO:+0200
TZNAME:CEST
DTSTART:20260329T010000
END:DAYLIGHT
BEGIN:STANDARD
TZOFFSETFROM:+0200
TZOFFSETTO:+0100
TZNAME:CET
DTSTART:20261025T010000
END:STANDARD
END:VTIMEZONE
BEGIN:VEVENT
DTSTART;VALUE=DATE:20250505
DTEND;VALUE=DATE:20250506
DTSTAMP:20260422T060959
CREATED:20241023T114521Z
LAST-MODIFIED:20241023T114521Z
UID:1857-1746403200-1746489599@conamore-eersel.nl
SUMMARY:Geen repetitie
DESCRIPTION:bevrijdingsdag
URL:https://conamore-eersel.nl/event/geen-repetitie-6/
CATEGORIES:Leden
END:VEVENT
BEGIN:VEVENT
DTSTART;TZID=Europe/Amsterdam:20250516T190000
DTEND;TZID=Europe/Amsterdam:20250516T190000
DTSTAMP:20260422T060959
CREATED:20250418T121349Z
LAST-MODIFIED:20250418T122535Z
UID:2053-1747422000-1747422000@conamore-eersel.nl
SUMMARY:Feestavond
DESCRIPTION:19:00 uur\, Eikenburg Eersel
URL:https://conamore-eersel.nl/event/feestavond-2/
LOCATION:Ontmoetingscentrum de Eikenburg\, Eikenburg 10\, Eersel\, 5521 HZ
CATEGORIES:Leden
ORGANIZER;CN="Con Amore et Anima":MAILTO:secretaris@conamore-eersel.nl
END:VEVENT
END:VCALENDAR