BEGIN:VCALENDAR
VERSION:2.0
PRODID:-//Con Amore et Anima - ECPv6.15.20//NONSGML v1.0//EN
CALSCALE:GREGORIAN
METHOD:PUBLISH
X-WR-CALNAME:Con Amore et Anima
X-ORIGINAL-URL:https://conamore-eersel.nl
X-WR-CALDESC:Evenementen voor Con Amore et Anima
REFRESH-INTERVAL;VALUE=DURATION:PT1H
X-Robots-Tag:noindex
X-PUBLISHED-TTL:PT1H
BEGIN:VTIMEZONE
TZID:Europe/Amsterdam
BEGIN:DAYLIGHT
TZOFFSETFROM:+0100
TZOFFSETTO:+0200
TZNAME:CEST
DTSTART:20240331T010000
END:DAYLIGHT
BEGIN:STANDARD
TZOFFSETFROM:+0200
TZOFFSETTO:+0100
TZNAME:CET
DTSTART:20241027T010000
END:STANDARD
BEGIN:DAYLIGHT
TZOFFSETFROM:+0100
TZOFFSETTO:+0200
TZNAME:CEST
DTSTART:20250330T010000
END:DAYLIGHT
BEGIN:STANDARD
TZOFFSETFROM:+0200
TZOFFSETTO:+0100
TZNAME:CET
DTSTART:20251026T010000
END:STANDARD
BEGIN:DAYLIGHT
TZOFFSETFROM:+0100
TZOFFSETTO:+0200
TZNAME:CEST
DTSTART:20260329T010000
END:DAYLIGHT
BEGIN:STANDARD
TZOFFSETFROM:+0200
TZOFFSETTO:+0100
TZNAME:CET
DTSTART:20261025T010000
END:STANDARD
END:VTIMEZONE
BEGIN:VEVENT
DTSTART;TZID=Europe/Amsterdam:20250602T200000
DTEND;TZID=Europe/Amsterdam:20250602T200000
DTSTAMP:20260422T044117
CREATED:20250418T122318Z
LAST-MODIFIED:20250418T122318Z
UID:2055-1748894400-1748894400@conamore-eersel.nl
SUMMARY:gezamenlijke repetitie met gemengde Zangvereniging d”Eykelbergh in de Willibrorduskerk
DESCRIPTION:20:00 uur Willibrorduskerk Of 5 juni
URL:https://conamore-eersel.nl/event/gezamenlijke-repetitie-met-gemengde-zangvereniging-deykelbergh-in-de-willibrorduskerk/
LOCATION:Sint Willibrorduskerk\, Kerkstraat 31\, Eersel\, 5521 JK
CATEGORIES:Leden
END:VEVENT
BEGIN:VEVENT
DTSTART;VALUE=DATE:20250609
DTEND;VALUE=DATE:20250610
DTSTAMP:20260422T044117
CREATED:20241023T114617Z
LAST-MODIFIED:20241023T114617Z
UID:1859-1749427200-1749513599@conamore-eersel.nl
SUMMARY:Geen repetitie
DESCRIPTION:2e pinksterdag
URL:https://conamore-eersel.nl/event/geen-repetitie-7/
CATEGORIES:Leden
END:VEVENT
END:VCALENDAR