BEGIN:VCALENDAR
VERSION:2.0
PRODID:-//Con Amore et Anima - ECPv6.15.20//NONSGML v1.0//EN
CALSCALE:GREGORIAN
METHOD:PUBLISH
X-ORIGINAL-URL:https://conamore-eersel.nl
X-WR-CALDESC:Evenementen voor Con Amore et Anima
REFRESH-INTERVAL;VALUE=DURATION:PT1H
X-Robots-Tag:noindex
X-PUBLISHED-TTL:PT1H
BEGIN:VTIMEZONE
TZID:Europe/Amsterdam
BEGIN:DAYLIGHT
TZOFFSETFROM:+0100
TZOFFSETTO:+0200
TZNAME:CEST
DTSTART:20240331T010000
END:DAYLIGHT
BEGIN:STANDARD
TZOFFSETFROM:+0200
TZOFFSETTO:+0100
TZNAME:CET
DTSTART:20241027T010000
END:STANDARD
BEGIN:DAYLIGHT
TZOFFSETFROM:+0100
TZOFFSETTO:+0200
TZNAME:CEST
DTSTART:20250330T010000
END:DAYLIGHT
BEGIN:STANDARD
TZOFFSETFROM:+0200
TZOFFSETTO:+0100
TZNAME:CET
DTSTART:20251026T010000
END:STANDARD
BEGIN:DAYLIGHT
TZOFFSETFROM:+0100
TZOFFSETTO:+0200
TZNAME:CEST
DTSTART:20260329T010000
END:DAYLIGHT
BEGIN:STANDARD
TZOFFSETFROM:+0200
TZOFFSETTO:+0100
TZNAME:CET
DTSTART:20261025T010000
END:STANDARD
END:VTIMEZONE
BEGIN:VEVENT
DTSTART;TZID=Europe/Amsterdam:20251003T190000
DTEND;TZID=Europe/Amsterdam:20251003T230000
DTSTAMP:20260421T210821
CREATED:20250604T091257Z
LAST-MODIFIED:20250604T091257Z
UID:2073-1759518000-1759532400@conamore-eersel.nl
SUMMARY:Feestavond
DESCRIPTION:
URL:https://conamore-eersel.nl/event/feestavond-3/
LOCATION:Ontmoetingscentrum de Eikenburg\, Eikenburg 10\, Eersel\, 5521 HZ
CATEGORIES:Leden
END:VEVENT
BEGIN:VEVENT
DTSTART;TZID=Europe/Amsterdam:20251025T140000
DTEND;TZID=Europe/Amsterdam:20251025T143000
DTSTAMP:20260421T210821
CREATED:20250604T091409Z
LAST-MODIFIED:20251016T093551Z
UID:2076-1761400800-1761402600@conamore-eersel.nl
SUMMARY:Generale repetitie
DESCRIPTION:Let op: koorkleding
URL:https://conamore-eersel.nl/event/generale-repetitie-2/
LOCATION:Sint Willibrorduskerk\, Kerkstraat 31\, Eersel\, 5521 JK
CATEGORIES:Leden
END:VEVENT
BEGIN:VEVENT
DTSTART;VALUE=DATE:20251026
DTEND;VALUE=DATE:20251027
DTSTAMP:20260421T210821
CREATED:20250117T124425Z
LAST-MODIFIED:20251016T093657Z
UID:1955-1761489000-1761489000@conamore-eersel.nl
SUMMARY:Najaarsconcert i.s.m. d'Eykelberg
DESCRIPTION:Aanwezig om 13:30 uur
URL:https://conamore-eersel.nl/event/najaarsconcert-i-s-m-deykelberg/
LOCATION:Sint Willibrorduskerk\, Kerkstraat 31\, Eersel\, 5521 JK
CATEGORIES:Leden
END:VEVENT
END:VCALENDAR