BEGIN:VCALENDAR
VERSION:2.0
PRODID:-//Con Amore et Anima - ECPv6.15.20//NONSGML v1.0//EN
CALSCALE:GREGORIAN
METHOD:PUBLISH
X-WR-CALNAME:Con Amore et Anima
X-ORIGINAL-URL:https://conamore-eersel.nl
X-WR-CALDESC:Evenementen voor Con Amore et Anima
REFRESH-INTERVAL;VALUE=DURATION:PT1H
X-Robots-Tag:noindex
X-PUBLISHED-TTL:PT1H
BEGIN:VTIMEZONE
TZID:Europe/Amsterdam
BEGIN:DAYLIGHT
TZOFFSETFROM:+0100
TZOFFSETTO:+0200
TZNAME:CEST
DTSTART:20240331T010000
END:DAYLIGHT
BEGIN:STANDARD
TZOFFSETFROM:+0200
TZOFFSETTO:+0100
TZNAME:CET
DTSTART:20241027T010000
END:STANDARD
BEGIN:DAYLIGHT
TZOFFSETFROM:+0100
TZOFFSETTO:+0200
TZNAME:CEST
DTSTART:20250330T010000
END:DAYLIGHT
BEGIN:STANDARD
TZOFFSETFROM:+0200
TZOFFSETTO:+0100
TZNAME:CET
DTSTART:20251026T010000
END:STANDARD
BEGIN:DAYLIGHT
TZOFFSETFROM:+0100
TZOFFSETTO:+0200
TZNAME:CEST
DTSTART:20260329T010000
END:DAYLIGHT
BEGIN:STANDARD
TZOFFSETFROM:+0200
TZOFFSETTO:+0100
TZNAME:CET
DTSTART:20261025T010000
END:STANDARD
END:VTIMEZONE
BEGIN:VEVENT
DTSTART;TZID=Europe/Amsterdam:20250704T200000
DTEND;TZID=Europe/Amsterdam:20250704T200000
DTSTAMP:20260422T044134
CREATED:20250604T091046Z
LAST-MODIFIED:20250604T091046Z
UID:2069-1751659200-1751659200@conamore-eersel.nl
SUMMARY:Repetitie Willibrorduskerk met organist
DESCRIPTION:
URL:https://conamore-eersel.nl/event/repetitie-willibrorduskerk-met-organist/
LOCATION:Sint Willibrorduskerk\, Kerkstraat 31\, Eersel\, 5521 JK
CATEGORIES:Leden
END:VEVENT
END:VCALENDAR