BEGIN:VCALENDAR
VERSION:2.0
PRODID:-//Con Amore et Anima - ECPv6.15.20//NONSGML v1.0//EN
CALSCALE:GREGORIAN
METHOD:PUBLISH
X-WR-CALNAME:Con Amore et Anima
X-ORIGINAL-URL:https://conamore-eersel.nl
X-WR-CALDESC:Evenementen voor Con Amore et Anima
REFRESH-INTERVAL;VALUE=DURATION:PT1H
X-Robots-Tag:noindex
X-PUBLISHED-TTL:PT1H
BEGIN:VTIMEZONE
TZID:Europe/Amsterdam
BEGIN:DAYLIGHT
TZOFFSETFROM:+0100
TZOFFSETTO:+0200
TZNAME:CEST
DTSTART:20240331T010000
END:DAYLIGHT
BEGIN:STANDARD
TZOFFSETFROM:+0200
TZOFFSETTO:+0100
TZNAME:CET
DTSTART:20241027T010000
END:STANDARD
BEGIN:DAYLIGHT
TZOFFSETFROM:+0100
TZOFFSETTO:+0200
TZNAME:CEST
DTSTART:20250330T010000
END:DAYLIGHT
BEGIN:STANDARD
TZOFFSETFROM:+0200
TZOFFSETTO:+0100
TZNAME:CET
DTSTART:20251026T010000
END:STANDARD
BEGIN:DAYLIGHT
TZOFFSETFROM:+0100
TZOFFSETTO:+0200
TZNAME:CEST
DTSTART:20260329T010000
END:DAYLIGHT
BEGIN:STANDARD
TZOFFSETFROM:+0200
TZOFFSETTO:+0100
TZNAME:CET
DTSTART:20261025T010000
END:STANDARD
BEGIN:DAYLIGHT
TZOFFSETFROM:+0100
TZOFFSETTO:+0200
TZNAME:CEST
DTSTART:20270328T010000
END:DAYLIGHT
BEGIN:STANDARD
TZOFFSETFROM:+0200
TZOFFSETTO:+0100
TZNAME:CET
DTSTART:20271031T010000
END:STANDARD
END:VTIMEZONE
BEGIN:VEVENT
DTSTART;VALUE=DATE:20251211
DTEND;VALUE=DATE:20251212
DTSTAMP:20260421T211746
CREATED:20251126T103248Z
LAST-MODIFIED:20251126T103534Z
UID:2175-1765411200-1765497599@conamore-eersel.nl
SUMMARY:Donksbergen
DESCRIPTION:
URL:https://conamore-eersel.nl/event/donksbergen/
LOCATION:Donksbergen\, Berkvenseweg 2\, Duizel\, 5525 KD
CATEGORIES:Leden
END:VEVENT
BEGIN:VEVENT
DTSTART;TZID=Europe/Amsterdam:20251214T153000
DTEND;TZID=Europe/Amsterdam:20251214T153000
DTSTAMP:20260421T211746
CREATED:20250604T091541Z
LAST-MODIFIED:20250604T091541Z
UID:2078-1765726200-1765726200@conamore-eersel.nl
SUMMARY:Kerstconcert
DESCRIPTION:
URL:https://conamore-eersel.nl/event/kerstconcert-3/
LOCATION:Sint Willibrorduskerk\, Kerkstraat 31\, Eersel\, 5521 JK
CATEGORIES:Leden
END:VEVENT
BEGIN:VEVENT
DTSTART;VALUE=DATE:20251215
DTEND;VALUE=DATE:20251216
DTSTAMP:20260421T211746
CREATED:20250828T122653Z
LAST-MODIFIED:20250828T122653Z
UID:2090-1765756800-1765843199@conamore-eersel.nl
SUMMARY:Laatste repetitie van 2025
DESCRIPTION:
URL:https://conamore-eersel.nl/event/laatste-repetitie-van-2025/
CATEGORIES:Leden
END:VEVENT
BEGIN:VEVENT
DTSTART;VALUE=DATE:20251222
DTEND;VALUE=DATE:20251223
DTSTAMP:20260421T211746
CREATED:20241023T114932Z
LAST-MODIFIED:20241023T114932Z
UID:1865-1766361600-1766447999@conamore-eersel.nl
SUMMARY:Geen repetitie
DESCRIPTION:
URL:https://conamore-eersel.nl/event/geen-repetitie-9/
CATEGORIES:Leden
END:VEVENT
BEGIN:VEVENT
DTSTART;VALUE=DATE:20251229
DTEND;VALUE=DATE:20251230
DTSTAMP:20260421T211746
CREATED:20241023T114959Z
LAST-MODIFIED:20241023T114959Z
UID:1867-1766966400-1767052799@conamore-eersel.nl
SUMMARY:Geen repetitie
DESCRIPTION:
URL:https://conamore-eersel.nl/event/geen-repetitie-10/
CATEGORIES:Leden
END:VEVENT
BEGIN:VEVENT
DTSTART;TZID=Europe/Amsterdam:20260105T200000
DTEND;TZID=Europe/Amsterdam:20260105T200000
DTSTAMP:20260421T211746
CREATED:20250828T122809Z
LAST-MODIFIED:20250828T122809Z
UID:2092-1767643200-1767643200@conamore-eersel.nl
SUMMARY:Eerste repetitie van 2025
DESCRIPTION:Geen partijrepetitie \nInloop van 19.30-20.00 uur \nStart repetitie 20.00 uur
URL:https://conamore-eersel.nl/event/eerste-repetitie-van-2025/
CATEGORIES:Leden
END:VEVENT
BEGIN:VEVENT
DTSTART;VALUE=DATE:20260215
DTEND;VALUE=DATE:20260216
DTSTAMP:20260421T211746
CREATED:20251126T103810Z
LAST-MODIFIED:20251126T103810Z
UID:2180-1771113600-1771199999@conamore-eersel.nl
SUMMARY:Carnavalsmis
DESCRIPTION:
URL:https://conamore-eersel.nl/event/carnavalsmis-4/
LOCATION:Sint Willibrorduskerk\, Kerkstraat 31\, Eersel\, 5521 JK
CATEGORIES:Leden
END:VEVENT
BEGIN:VEVENT
DTSTART;VALUE=DATE:20260216
DTEND;VALUE=DATE:20260217
DTSTAMP:20260421T211746
CREATED:20251126T103928Z
LAST-MODIFIED:20251126T103928Z
UID:2182-1771200000-1771286399@conamore-eersel.nl
SUMMARY:Geen repetitie
DESCRIPTION:
URL:https://conamore-eersel.nl/event/geen-repetitie-11/
CATEGORIES:Leden
END:VEVENT
BEGIN:VEVENT
DTSTART;TZID=Europe/Amsterdam:20260316T200000
DTEND;TZID=Europe/Amsterdam:20260316T200000
DTSTAMP:20260421T211746
CREATED:20260304T134457Z
LAST-MODIFIED:20260304T134457Z
UID:2266-1773691200-1773691200@conamore-eersel.nl
SUMMARY:Algemene ledenvergadering
DESCRIPTION:20.00 uur \nHuldiging jubilarissen 21.00 uur
URL:https://conamore-eersel.nl/event/algemene-ledenvergadering-4/
CATEGORIES:Leden
ORGANIZER;CN="Con Amore et Anima":MAILTO:secretaris@conamore-eersel.nl
END:VEVENT
BEGIN:VEVENT
DTSTART;VALUE=DATE:20260406
DTEND;VALUE=DATE:20260407
DTSTAMP:20260421T211746
CREATED:20260304T134704Z
LAST-MODIFIED:20260304T134704Z
UID:2268-1775433600-1775519999@conamore-eersel.nl
SUMMARY:2e paasdag\, geen repetitie
DESCRIPTION:
URL:https://conamore-eersel.nl/event/2e-paasdag-geen-repetitie/
CATEGORIES:Leden
END:VEVENT
BEGIN:VEVENT
DTSTART;VALUE=DATE:20260419
DTEND;VALUE=DATE:20260420
DTSTAMP:20260421T211746
CREATED:20251126T104031Z
LAST-MODIFIED:20260226T155233Z
UID:2184-1776607200-1776607200@conamore-eersel.nl
SUMMARY:Uitwisselingsconcert met de Vrolijke SamenZang ( Nuenen) en Stedelijke Helmonds Seniorenkoor (SHS)
DESCRIPTION:14.00 uur aanvang concert\, 13.00 uur\naanwezig
URL:https://conamore-eersel.nl/event/uitwisselingsconcert-met-de-vrolijke-samenzang-nuenen-en-stedelijke-helmonds-seniorenkoor-shs/
CATEGORIES:Leden
END:VEVENT
BEGIN:VEVENT
DTSTART;VALUE=DATE:20260427
DTEND;VALUE=DATE:20260428
DTSTAMP:20260421T211746
CREATED:20251126T104159Z
LAST-MODIFIED:20251126T104159Z
UID:2189-1777248000-1777334399@conamore-eersel.nl
SUMMARY:Koningsdag\, geen repetitie
DESCRIPTION:
URL:https://conamore-eersel.nl/event/koningsdag-geen-repetitie/
CATEGORIES:Leden
END:VEVENT
BEGIN:VEVENT
DTSTART;VALUE=DATE:20260504
DTEND;VALUE=DATE:20260505
DTSTAMP:20260421T211746
CREATED:20251126T104253Z
LAST-MODIFIED:20260304T134829Z
UID:2191-1777852800-1777939199@conamore-eersel.nl
SUMMARY:Dodenherdenking\, geen repetitie
DESCRIPTION:
URL:https://conamore-eersel.nl/event/dodenherdenking/
CATEGORIES:Leden
END:VEVENT
BEGIN:VEVENT
DTSTART;VALUE=DATE:20260525
DTEND;VALUE=DATE:20260526
DTSTAMP:20260421T211746
CREATED:20251126T104336Z
LAST-MODIFIED:20251126T104336Z
UID:2193-1779667200-1779753599@conamore-eersel.nl
SUMMARY:2e pinksterdag\, geen repetitie
DESCRIPTION:
URL:https://conamore-eersel.nl/event/2e-pinksterdag-geen-repetitie/
CATEGORIES:Leden
END:VEVENT
BEGIN:VEVENT
DTSTART;TZID=Europe/Amsterdam:20260627T103000
DTEND;TZID=Europe/Amsterdam:20260627T103000
DTSTAMP:20260421T211746
CREATED:20260304T135355Z
LAST-MODIFIED:20260304T135355Z
UID:2272-1782556200-1782556200@conamore-eersel.nl
SUMMARY:Fietstocht
DESCRIPTION:10.30 uur ?
URL:https://conamore-eersel.nl/event/fietstocht-3/
CATEGORIES:Leden
ORGANIZER;CN="Con Amore et Anima":MAILTO:secretaris@conamore-eersel.nl
END:VEVENT
BEGIN:VEVENT
DTSTART;VALUE=DATE:20260706
DTEND;VALUE=DATE:20260707
DTSTAMP:20260421T211746
CREATED:20251126T104505Z
LAST-MODIFIED:20251126T104505Z
UID:2195-1783296000-1783382399@conamore-eersel.nl
SUMMARY:Laatste repetitie voor zomerstop
DESCRIPTION:
URL:https://conamore-eersel.nl/event/laatste-repetitie-voor-zomerstop/
CATEGORIES:Leden
END:VEVENT
BEGIN:VEVENT
DTSTART;VALUE=DATE:20260824
DTEND;VALUE=DATE:20260825
DTSTAMP:20260421T211746
CREATED:20251126T104627Z
LAST-MODIFIED:20260304T135234Z
UID:2197-1787601600-1787601600@conamore-eersel.nl
SUMMARY:Eerste repetitie na zomerstop\, geen partijrepetitie
DESCRIPTION:20.00 uur \n 
URL:https://conamore-eersel.nl/event/eerste-repetitie-na-zomerstop/
CATEGORIES:Leden
END:VEVENT
END:VCALENDAR