BEGIN:VCALENDAR
VERSION:2.0
PRODID:-//Con Amore et Anima - ECPv6.15.20//NONSGML v1.0//EN
CALSCALE:GREGORIAN
METHOD:PUBLISH
X-ORIGINAL-URL:https://conamore-eersel.nl
X-WR-CALDESC:Evenementen voor Con Amore et Anima
REFRESH-INTERVAL;VALUE=DURATION:PT1H
X-Robots-Tag:noindex
X-PUBLISHED-TTL:PT1H
BEGIN:VTIMEZONE
TZID:Europe/Amsterdam
BEGIN:DAYLIGHT
TZOFFSETFROM:+0100
TZOFFSETTO:+0200
TZNAME:CEST
DTSTART:20210328T010000
END:DAYLIGHT
BEGIN:STANDARD
TZOFFSETFROM:+0200
TZOFFSETTO:+0100
TZNAME:CET
DTSTART:20211031T010000
END:STANDARD
BEGIN:DAYLIGHT
TZOFFSETFROM:+0100
TZOFFSETTO:+0200
TZNAME:CEST
DTSTART:20220327T010000
END:DAYLIGHT
BEGIN:STANDARD
TZOFFSETFROM:+0200
TZOFFSETTO:+0100
TZNAME:CET
DTSTART:20221030T010000
END:STANDARD
BEGIN:DAYLIGHT
TZOFFSETFROM:+0100
TZOFFSETTO:+0200
TZNAME:CEST
DTSTART:20230326T010000
END:DAYLIGHT
BEGIN:STANDARD
TZOFFSETFROM:+0200
TZOFFSETTO:+0100
TZNAME:CET
DTSTART:20231029T010000
END:STANDARD
BEGIN:DAYLIGHT
TZOFFSETFROM:+0100
TZOFFSETTO:+0200
TZNAME:CEST
DTSTART:20240331T010000
END:DAYLIGHT
BEGIN:STANDARD
TZOFFSETFROM:+0200
TZOFFSETTO:+0100
TZNAME:CET
DTSTART:20241027T010000
END:STANDARD
BEGIN:DAYLIGHT
TZOFFSETFROM:+0100
TZOFFSETTO:+0200
TZNAME:CEST
DTSTART:20250330T010000
END:DAYLIGHT
BEGIN:STANDARD
TZOFFSETFROM:+0200
TZOFFSETTO:+0100
TZNAME:CET
DTSTART:20251026T010000
END:STANDARD
END:VTIMEZONE
BEGIN:VEVENT
DTSTART;VALUE=DATE:20240930
DTEND;VALUE=DATE:20241001
DTSTAMP:20260421T171705
CREATED:20240117T133328Z
LAST-MODIFIED:20240117T133328Z
UID:1672-1727654400-1727740799@conamore-eersel.nl
SUMMARY:5e maandag van de maand dirigentoverleg
DESCRIPTION:Geen partijrepetitie
URL:https://conamore-eersel.nl/event/5e-maandag-van-de-maand-dirigentoverleg-2/
CATEGORIES:Leden
ORGANIZER;CN="Con Amore et Anima":MAILTO:secretaris@conamore-eersel.nl
END:VEVENT
BEGIN:VEVENT
DTSTART;VALUE=DATE:20240915
DTEND;VALUE=DATE:20240916
DTSTAMP:20260421T171705
CREATED:20240117T133219Z
LAST-MODIFIED:20240619T133824Z
UID:1670-1726358400-1726444799@conamore-eersel.nl
SUMMARY:Activiteit koor ivm jubileum
DESCRIPTION:middag: zingen op het Streekmuseum. Reünie voor leden en oud-leden. Exacte tijdstip volgt nog. \nAvond : BBQ voor huidige leden en partners. Waarschijnlijk vanaf 17 u. \n  \nOp deze zondag zingen we op het Streekmuseum\, hopelijk in aanwezigheid van veel oud-leden. \nAansluitend is er een BBQ voor de huidige leden én hun partners bij fam. Van der Aalst aan het Molenveld in Eersel. Voor partners wordt een bijdrage gevraagd van 26 euro\, dat is incl 2 drankjes. \nNa de zomervakantie zal een intekenlijst klaarliggen voor deze BBQ. \n  \nMeer info volgt na de zomervakantie.
URL:https://conamore-eersel.nl/event/activiteit-koor-ivm-jubileum/
CATEGORIES:Leden
ORGANIZER;CN="Con Amore et Anima":MAILTO:secretaris@conamore-eersel.nl
END:VEVENT
BEGIN:VEVENT
DTSTART;VALUE=DATE:20240819
DTEND;VALUE=DATE:20240820
DTSTAMP:20260421T171705
CREATED:20240117T133054Z
LAST-MODIFIED:20240117T133054Z
UID:1668-1724025600-1724111999@conamore-eersel.nl
SUMMARY:1e repetitie na vakantie
DESCRIPTION:Geen partijrepetitie
URL:https://conamore-eersel.nl/event/1e-repetitie-na-vakantie/
CATEGORIES:Leden
ORGANIZER;CN="Con Amore et Anima":MAILTO:secretaris@conamore-eersel.nl
END:VEVENT
BEGIN:VEVENT
DTSTART;VALUE=DATE:20240706
DTEND;VALUE=DATE:20240819
DTSTAMP:20260421T171705
CREATED:20240117T132841Z
LAST-MODIFIED:20240117T132841Z
UID:1666-1720224000-1724025599@conamore-eersel.nl
SUMMARY:Zomervakantie
DESCRIPTION:Geen repetitie
URL:https://conamore-eersel.nl/event/zomervakantie/
CATEGORIES:Leden
END:VEVENT
BEGIN:VEVENT
DTSTART;VALUE=DATE:20240608
DTEND;VALUE=DATE:20240609
DTSTAMP:20260421T171705
CREATED:20240124T152207Z
LAST-MODIFIED:20240530T101753Z
UID:1683-1717804800-1717891199@conamore-eersel.nl
SUMMARY:Fietstocht
DESCRIPTION:10.30 uur vertrek vanaf de Eikenburg \nLunch bij Kruidenlucht in Casteren \nAfsluiting bij Camping de Molenvelden in Eersel.
URL:https://conamore-eersel.nl/event/fietstocht/
CATEGORIES:Leden
ORGANIZER;CN="Con Amore et Anima":MAILTO:secretaris@conamore-eersel.nl
END:VEVENT
BEGIN:VEVENT
DTSTART;VALUE=DATE:20240520
DTEND;VALUE=DATE:20240521
DTSTAMP:20260421T171705
CREATED:20240117T132730Z
LAST-MODIFIED:20240117T132730Z
UID:1664-1716163200-1716249599@conamore-eersel.nl
SUMMARY:2e pinksterdag
DESCRIPTION:Geen repetitie
URL:https://conamore-eersel.nl/event/2e-pinksterdag/
CATEGORIES:Leden
END:VEVENT
BEGIN:VEVENT
DTSTART;VALUE=DATE:20240506
DTEND;VALUE=DATE:20240507
DTSTAMP:20260421T171705
CREATED:20240117T132626Z
LAST-MODIFIED:20240117T132626Z
UID:1662-1714953600-1715039999@conamore-eersel.nl
SUMMARY:Meivakantie
DESCRIPTION:Geen repetitie
URL:https://conamore-eersel.nl/event/meivakantie-2/
CATEGORIES:Leden
END:VEVENT
BEGIN:VEVENT
DTSTART;VALUE=DATE:20240429
DTEND;VALUE=DATE:20240430
DTSTAMP:20260421T171705
CREATED:20240117T132534Z
LAST-MODIFIED:20240117T132534Z
UID:1660-1714348800-1714435199@conamore-eersel.nl
SUMMARY:Meivakantie
DESCRIPTION:Geen repetitie
URL:https://conamore-eersel.nl/event/meivakantie/
CATEGORIES:Leden
END:VEVENT
BEGIN:VEVENT
DTSTART;VALUE=DATE:20240412
DTEND;VALUE=DATE:20240413
DTSTAMP:20260421T171705
CREATED:20240117T132404Z
LAST-MODIFIED:20240124T152034Z
UID:1658-1712880000-1712966399@conamore-eersel.nl
SUMMARY:Vrijdagmiddag: Uitstapje ivm jubileum
DESCRIPTION:
URL:https://conamore-eersel.nl/event/uitstapje-ivm-jubileum/
CATEGORIES:Leden
ORGANIZER;CN="Con Amore et Anima":MAILTO:secretaris@conamore-eersel.nl
END:VEVENT
BEGIN:VEVENT
DTSTART;VALUE=DATE:20240401
DTEND;VALUE=DATE:20240402
DTSTAMP:20260421T171705
CREATED:20240117T132315Z
LAST-MODIFIED:20240117T132315Z
UID:1656-1711929600-1712015999@conamore-eersel.nl
SUMMARY:Tweede paasdag
DESCRIPTION:Geen repetitie
URL:https://conamore-eersel.nl/event/tweede-paasdag/
CATEGORIES:Leden
END:VEVENT
BEGIN:VEVENT
DTSTART;TZID=Europe/Amsterdam:20240318T200000
DTEND;TZID=Europe/Amsterdam:20240318T210000
DTSTAMP:20260421T171705
CREATED:20240117T132220Z
LAST-MODIFIED:20240117T132220Z
UID:1654-1710792000-1710795600@conamore-eersel.nl
SUMMARY:Algemene ledenvergadering
DESCRIPTION:Geen partijrepetitie\nAanvang ALV 20.00 uur.
URL:https://conamore-eersel.nl/event/algemene-ledenvergadering-2/
CATEGORIES:Leden
ORGANIZER;CN="Con Amore et Anima":MAILTO:secretaris@conamore-eersel.nl
END:VEVENT
BEGIN:VEVENT
DTSTART;TZID=Europe/Amsterdam:20240211T093000
DTEND;TZID=Europe/Amsterdam:20240211T103000
DTSTAMP:20260421T171705
CREATED:20240117T131909Z
LAST-MODIFIED:20240117T131909Z
UID:1652-1707643800-1707647400@conamore-eersel.nl
SUMMARY:Carnavalsmis
DESCRIPTION:9.30-10.30 uur. Willibrorduskerk Eersel. \nCarnavalsoutfit
URL:https://conamore-eersel.nl/event/carnavalsmis-2/
LOCATION:Sint Willibrorduskerk\, Kerkstraat 31\, Eersel\, 5521 JK
CATEGORIES:Leden
ORGANIZER;CN="Con Amore et Anima":MAILTO:secretaris@conamore-eersel.nl
END:VEVENT
BEGIN:VEVENT
DTSTART;TZID=Europe/Amsterdam:20240205T200000
DTEND;TZID=Europe/Amsterdam:20240205T203000
DTSTAMP:20260421T171705
CREATED:20240124T151905Z
LAST-MODIFIED:20240124T151905Z
UID:1680-1707163200-1707165000@conamore-eersel.nl
SUMMARY:Gezamenlijke repetitie met De Goede Hoop
DESCRIPTION:20.00-20.30 uur De Muzenval.\nGeen partijrepetitie.
URL:https://conamore-eersel.nl/event/gezamenlijke-repetitie-met-de-goede-hoop/
LOCATION:De Muzenval\, Dijk 7\, Eersel\, 5521 AW
CATEGORIES:Leden
ORGANIZER;CN="Con Amore et Anima":MAILTO:secretaris@conamore-eersel.nl
END:VEVENT
BEGIN:VEVENT
DTSTART;VALUE=DATE:20240129
DTEND;VALUE=DATE:20240130
DTSTAMP:20260421T171705
CREATED:20240117T131748Z
LAST-MODIFIED:20240117T131748Z
UID:1650-1706486400-1706572799@conamore-eersel.nl
SUMMARY:5e maandag van de maand dirigentoverleg
DESCRIPTION:Geen partijrepetitie
URL:https://conamore-eersel.nl/event/5e-maandag-van-de-maand-dirigentoverleg/
CATEGORIES:Leden
END:VEVENT
BEGIN:VEVENT
DTSTART;TZID=Europe/Amsterdam:20240108T200000
DTEND;TZID=Europe/Amsterdam:20240108T200000
DTSTAMP:20260421T171705
CREATED:20230118T112132Z
LAST-MODIFIED:20230118T112132Z
UID:1176-1704744000-1704744000@conamore-eersel.nl
SUMMARY:Eerste repetitie van het nieuwe jaar
DESCRIPTION:Geen partijrepetitie \nTussen 19:30-20:00 uur inloop
URL:https://conamore-eersel.nl/event/eerste-repetitie-van-het-nieuwe-jaar/
LOCATION:Ontmoetingscentrum de Eikenburg\, Eikenburg 10\, Eersel\, 5521 HZ
CATEGORIES:Leden
ORGANIZER;CN="Con Amore et Anima":MAILTO:secretaris@conamore-eersel.nl
END:VEVENT
BEGIN:VEVENT
DTSTART;TZID=Europe/Amsterdam:20231218T000000
DTEND;TZID=Europe/Amsterdam:20231218T000000
DTSTAMP:20260421T171705
CREATED:20230118T111934Z
LAST-MODIFIED:20230118T111934Z
UID:1174-1702857600-1702857600@conamore-eersel.nl
SUMMARY:Laatste repetitie van het jaar 2023
DESCRIPTION:
URL:https://conamore-eersel.nl/event/laatste-repetitie-van-het-jaar-2023/
CATEGORIES:Leden
ORGANIZER;CN="Con Amore et Anima":MAILTO:secretaris@conamore-eersel.nl
END:VEVENT
BEGIN:VEVENT
DTSTART;TZID=Europe/Amsterdam:20231217T153000
DTEND;TZID=Europe/Amsterdam:20231217T170000
DTSTAMP:20260421T171705
CREATED:20230118T111823Z
LAST-MODIFIED:20231123T102741Z
UID:1172-1702827000-1702832400@conamore-eersel.nl
SUMMARY:Kerstconcert
DESCRIPTION:
URL:https://conamore-eersel.nl/event/kerstconcert-2/
LOCATION:Sint Willibrorduskerk\, Kerkstraat 31\, Eersel\, 5521 JK
CATEGORIES:Leden
ORGANIZER;CN="Con Amore et Anima":MAILTO:secretaris@conamore-eersel.nl
END:VEVENT
BEGIN:VEVENT
DTSTART;TZID=Europe/Amsterdam:20231105T111200
DTEND;TZID=Europe/Amsterdam:20231205T111200
DTSTAMP:20260421T171705
CREATED:20230118T111226Z
LAST-MODIFIED:20230719T101128Z
UID:1168-1699182720-1701774720@conamore-eersel.nl
SUMMARY:Concert in Het Duysels Huys
DESCRIPTION:
URL:https://conamore-eersel.nl/event/concert-in-het-duysels-huys/
LOCATION:Het Duysels Huys\, Smitseind 38\, Duizel\, 5525 AP
CATEGORIES:Leden
ORGANIZER;CN="Con Amore et Anima":MAILTO:secretaris@conamore-eersel.nl
END:VEVENT
BEGIN:VEVENT
DTSTART;TZID=Europe/Amsterdam:20230828T000000
DTEND;TZID=Europe/Amsterdam:20230828T000000
DTSTAMP:20260421T171705
CREATED:20230118T111004Z
LAST-MODIFIED:20230118T111004Z
UID:1166-1693180800-1693180800@conamore-eersel.nl
SUMMARY:Eerste repetitie na de zomervakantie
DESCRIPTION:Geen partijrepetitie
URL:https://conamore-eersel.nl/event/eerste-repetitie-na-de-zomervakantie/
CATEGORIES:Leden
ORGANIZER;CN="Con Amore et Anima":MAILTO:secretaris@conamore-eersel.nl
END:VEVENT
BEGIN:VEVENT
DTSTART;TZID=Europe/Amsterdam:20230710T200000
DTEND;TZID=Europe/Amsterdam:20230710T200000
DTSTAMP:20260421T171705
CREATED:20230118T110832Z
LAST-MODIFIED:20230118T110832Z
UID:1164-1689019200-1689019200@conamore-eersel.nl
SUMMARY:Laatste repetitie voor zomervakantie
DESCRIPTION:
URL:https://conamore-eersel.nl/event/laatste-repetitie-voor-zomervakantie/
CATEGORIES:Leden
ORGANIZER;CN="Con Amore et Anima":MAILTO:secretaris@conamore-eersel.nl
END:VEVENT
BEGIN:VEVENT
DTSTART;TZID=Europe/Amsterdam:20230506T000000
DTEND;TZID=Europe/Amsterdam:20230506T000000
DTSTAMP:20260421T171705
CREATED:20230118T110637Z
LAST-MODIFIED:20230118T110637Z
UID:1162-1683331200-1683331200@conamore-eersel.nl
SUMMARY:60 jarig huwelijksjubileum van Corry en Boeb Heijnes
DESCRIPTION:
URL:https://conamore-eersel.nl/event/60-jarig-huwelijksjubileum-van-corry-en-boeb-heijnes/
CATEGORIES:Leden
END:VEVENT
BEGIN:VEVENT
DTSTART;TZID=Europe/Amsterdam:20230421T000000
DTEND;TZID=Europe/Amsterdam:20230421T000000
DTSTAMP:20260421T171705
CREATED:20230118T110431Z
LAST-MODIFIED:20230118T110431Z
UID:1160-1682035200-1682035200@conamore-eersel.nl
SUMMARY:Feestavond
DESCRIPTION:
URL:https://conamore-eersel.nl/event/feestavond/
CATEGORIES:Leden
ORGANIZER;CN="Con Amore et Anima":MAILTO:secretaris@conamore-eersel.nl
END:VEVENT
BEGIN:VEVENT
DTSTART;TZID=Europe/Amsterdam:20230313T200000
DTEND;TZID=Europe/Amsterdam:20230313T200000
DTSTAMP:20260421T171705
CREATED:20230118T110137Z
LAST-MODIFIED:20230118T110137Z
UID:1158-1678737600-1678737600@conamore-eersel.nl
SUMMARY:Algemene ledenvergadering
DESCRIPTION:
URL:https://conamore-eersel.nl/event/algemene-ledenvergadering/
LOCATION:Ontmoetingscentrum de Eikenburg\, Eikenburg 10\, Eersel\, 5521 HZ
CATEGORIES:Leden
ORGANIZER;CN="Con Amore et Anima":MAILTO:secretaris@conamore-eersel.nl
END:VEVENT
BEGIN:VEVENT
DTSTART;TZID=Europe/Amsterdam:20230219T093000
DTEND;TZID=Europe/Amsterdam:20230219T093000
DTSTAMP:20260421T171705
CREATED:20221109T105415Z
LAST-MODIFIED:20230201T150842Z
UID:844-1676799000-1676799000@conamore-eersel.nl
SUMMARY:Carnavalsmis
DESCRIPTION:Aanwezig: 9:00
URL:https://conamore-eersel.nl/event/carnavalsmis/
LOCATION:Sint Willibrorduskerk\, Kerkstraat 31\, Eersel\, 5521 JK
CATEGORIES:Leden
ORGANIZER;CN="Con Amore et Anima":MAILTO:secretaris@conamore-eersel.nl
END:VEVENT
BEGIN:VEVENT
DTSTART;TZID=Europe/Amsterdam:20230213T200000
DTEND;TZID=Europe/Amsterdam:20230213T203000
DTSTAMP:20260421T171705
CREATED:20230118T105852Z
LAST-MODIFIED:20230118T105852Z
UID:1155-1676318400-1676320200@conamore-eersel.nl
SUMMARY:Gezamenlijke repetitie
DESCRIPTION:met Muziekvereniging De Goede Hoop uit Eersel
URL:https://conamore-eersel.nl/event/gezamenlijke-repetitie-2/
LOCATION:De Muzenval\, Dijk 7\, Eersel\, 5521 AW
CATEGORIES:Leden
ORGANIZER;CN="Con Amore et Anima":MAILTO:secretaris@conamore-eersel.nl
END:VEVENT
BEGIN:VEVENT
DTSTART;TZID=Europe/Amsterdam:20230109T200000
DTEND;TZID=Europe/Amsterdam:20230109T200000
DTSTAMP:20260421T171705
CREATED:20221109T105240Z
LAST-MODIFIED:20230109T091744Z
UID:842-1673294400-1673294400@conamore-eersel.nl
SUMMARY:Eerste repetitie van het jaar
DESCRIPTION:
URL:https://conamore-eersel.nl/event/eerste-repetitie-van-het-jaar/
LOCATION:Ontmoetingscentrum de Eikenburg\, Eikenburg 10\, Eersel\, 5521 HZ
CATEGORIES:Leden
ORGANIZER;CN="Con Amore et Anima":MAILTO:secretaris@conamore-eersel.nl
END:VEVENT
BEGIN:VEVENT
DTSTART;TZID=Europe/Amsterdam:20221219T190000
DTEND;TZID=Europe/Amsterdam:20221219T200000
DTSTAMP:20260421T171705
CREATED:20220803T140341Z
LAST-MODIFIED:20221130T110728Z
UID:187-1671476400-1671480000@conamore-eersel.nl
SUMMARY:Kerstviering in de Kerkebogten
DESCRIPTION:18:45 uur aanwezig zijn
URL:https://conamore-eersel.nl/event/laatste-repetitie-2022/
LOCATION:De Refter\, Gebint 70\, Eersel\, 5521 WG
CATEGORIES:Leden
ORGANIZER;CN="Con Amore et Anima":MAILTO:secretaris@conamore-eersel.nl
END:VEVENT
BEGIN:VEVENT
DTSTART;TZID=Europe/Amsterdam:20221218T140000
DTEND;TZID=Europe/Amsterdam:20221218T163000
DTSTAMP:20260421T171705
CREATED:20220803T134822Z
LAST-MODIFIED:20221117T111931Z
UID:176-1671372000-1671381000@conamore-eersel.nl
SUMMARY:Kerstconcert
DESCRIPTION:met Muziekvereniging De Goede Hoop uit Eersel
URL:https://conamore-eersel.nl/event/kerstconcert/
LOCATION:Sint Willibrorduskerk\, Kerkstraat 31\, Eersel\, 5521 JK
CATEGORIES:Leden,Openbaar
ORGANIZER;CN="Con Amore et Anima":MAILTO:secretaris@conamore-eersel.nl
END:VEVENT
BEGIN:VEVENT
DTSTART;TZID=Europe/Amsterdam:20221212T200000
DTEND;TZID=Europe/Amsterdam:20221212T200000
DTSTAMP:20260421T171705
CREATED:20221117T112725Z
LAST-MODIFIED:20221128T100828Z
UID:860-1670875200-1670875200@conamore-eersel.nl
SUMMARY:Gezamenlijke repetitie
DESCRIPTION:met Muziekvereniging De Goede Hoop uit Eersel
URL:https://conamore-eersel.nl/event/gezamenlijke-repetitie/
LOCATION:De Muzenval\, Dijk 7\, Eersel\, 5521 AW
CATEGORIES:Leden
ORGANIZER;CN="Con Amore et Anima":MAILTO:secretaris@conamore-eersel.nl
END:VEVENT
BEGIN:VEVENT
DTSTART;TZID=Europe/Amsterdam:20221113T143000
DTEND;TZID=Europe/Amsterdam:20221113T170000
DTSTAMP:20260421T171705
CREATED:20220909T092349Z
LAST-MODIFIED:20221006T091650Z
UID:353-1668349800-1668358800@conamore-eersel.nl
SUMMARY:Matineeconcert
DESCRIPTION:
URL:https://conamore-eersel.nl/event/matineeconcert-2/
LOCATION:De Muzenval\, Dijk 7\, Eersel\, 5521 AW
CATEGORIES:Leden
ORGANIZER;CN="Con Amore et Anima":MAILTO:secretaris@conamore-eersel.nl
END:VEVENT
END:VCALENDAR