BEGIN:VCALENDAR
VERSION:2.0
PRODID:-//Con Amore et Anima - ECPv6.15.20//NONSGML v1.0//EN
CALSCALE:GREGORIAN
METHOD:PUBLISH
X-ORIGINAL-URL:https://conamore-eersel.nl
X-WR-CALDESC:Evenementen voor Con Amore et Anima
REFRESH-INTERVAL;VALUE=DURATION:PT1H
X-Robots-Tag:noindex
X-PUBLISHED-TTL:PT1H
BEGIN:VTIMEZONE
TZID:Europe/Amsterdam
BEGIN:DAYLIGHT
TZOFFSETFROM:+0100
TZOFFSETTO:+0200
TZNAME:CEST
DTSTART:20210328T010000
END:DAYLIGHT
BEGIN:STANDARD
TZOFFSETFROM:+0200
TZOFFSETTO:+0100
TZNAME:CET
DTSTART:20211031T010000
END:STANDARD
BEGIN:DAYLIGHT
TZOFFSETFROM:+0100
TZOFFSETTO:+0200
TZNAME:CEST
DTSTART:20220327T010000
END:DAYLIGHT
BEGIN:STANDARD
TZOFFSETFROM:+0200
TZOFFSETTO:+0100
TZNAME:CET
DTSTART:20221030T010000
END:STANDARD
BEGIN:DAYLIGHT
TZOFFSETFROM:+0100
TZOFFSETTO:+0200
TZNAME:CEST
DTSTART:20230326T010000
END:DAYLIGHT
BEGIN:STANDARD
TZOFFSETFROM:+0200
TZOFFSETTO:+0100
TZNAME:CET
DTSTART:20231029T010000
END:STANDARD
BEGIN:DAYLIGHT
TZOFFSETFROM:+0100
TZOFFSETTO:+0200
TZNAME:CEST
DTSTART:20240331T010000
END:DAYLIGHT
BEGIN:STANDARD
TZOFFSETFROM:+0200
TZOFFSETTO:+0100
TZNAME:CET
DTSTART:20241027T010000
END:STANDARD
END:VTIMEZONE
BEGIN:VEVENT
DTSTART;TZID=Europe/Amsterdam:20230219T093000
DTEND;TZID=Europe/Amsterdam:20230219T093000
DTSTAMP:20260421T122420
CREATED:20230201T112536Z
LAST-MODIFIED:20230203T104021Z
UID:1287-1676799000-1676799000@conamore-eersel.nl
SUMMARY:Carnavalsmis
DESCRIPTION:
URL:https://conamore-eersel.nl/event/carnavalsmis-openbaar/
LOCATION:Sint Willibrorduskerk\, Kerkstraat 31\, Eersel\, 5521 JK
CATEGORIES:Openbaar
ORGANIZER;CN="Con Amore et Anima":MAILTO:secretaris@conamore-eersel.nl
END:VEVENT
BEGIN:VEVENT
DTSTART;TZID=Europe/Amsterdam:20221218T140000
DTEND;TZID=Europe/Amsterdam:20221218T163000
DTSTAMP:20260421T122421
CREATED:20220803T134822Z
LAST-MODIFIED:20221117T111931Z
UID:176-1671372000-1671381000@conamore-eersel.nl
SUMMARY:Kerstconcert
DESCRIPTION:met Muziekvereniging De Goede Hoop uit Eersel
URL:https://conamore-eersel.nl/event/kerstconcert/
LOCATION:Sint Willibrorduskerk\, Kerkstraat 31\, Eersel\, 5521 JK
CATEGORIES:Leden,Openbaar
ORGANIZER;CN="Con Amore et Anima":MAILTO:secretaris@conamore-eersel.nl
END:VEVENT
BEGIN:VEVENT
DTSTART;TZID=Europe/Amsterdam:20221113T143000
DTEND;TZID=Europe/Amsterdam:20221113T170000
DTSTAMP:20260421T122421
CREATED:20220803T134646Z
LAST-MODIFIED:20221006T091600Z
UID:174-1668349800-1668358800@conamore-eersel.nl
SUMMARY:Matineeconcert
DESCRIPTION:Met Gemengd koor d’Eyckelbergh uit Bergeijk \nKlik hier om tickets te kopen
URL:https://conamore-eersel.nl/event/matineeconcert/
LOCATION:De Muzenval\, Dijk 7\, Eersel\, 5521 AW
CATEGORIES:Openbaar
ORGANIZER;CN="Con Amore et Anima":MAILTO:secretaris@conamore-eersel.nl
END:VEVENT
END:VCALENDAR